BEGIN:VCALENDAR
VERSION:2.0
PRODID:-//Citrus National Golf Club - Homosassa, FL - ECPv6.15.20//NONSGML v1.0//EN
CALSCALE:GREGORIAN
METHOD:PUBLISH
X-ORIGINAL-URL:https://citrusnational.com
X-WR-CALDESC:Events for Citrus National Golf Club - Homosassa, FL
REFRESH-INTERVAL;VALUE=DURATION:PT1H
X-Robots-Tag:noindex
X-PUBLISHED-TTL:PT1H
BEGIN:VTIMEZONE
TZID:UTC
BEGIN:STANDARD
TZOFFSETFROM:+0000
TZOFFSETTO:+0000
TZNAME:UTC
DTSTART:20240101T000000
END:STANDARD
END:VTIMEZONE
BEGIN:VEVENT
DTSTART;TZID=UTC:20250804T000000
DTEND;TZID=UTC:20250808T235959
DTSTAMP:20260421T143936
CREATED:20250630T150658Z
LAST-MODIFIED:20250630T150702Z
UID:10000009-1754265600-1754697599@citrusnational.com
SUMMARY:Junior Golf Camp at Citrus
DESCRIPTION:
URL:https://citrusnational.com/event/junior-golf-camp-at-citrus/
END:VEVENT
END:VCALENDAR