BEGIN:VCALENDAR
VERSION:2.0
PRODID:-//Citrus National Golf Club - Homosassa, FL - ECPv6.15.20//NONSGML v1.0//EN
CALSCALE:GREGORIAN
METHOD:PUBLISH
X-WR-CALNAME:Citrus National Golf Club - Homosassa, FL
X-ORIGINAL-URL:https://citrusnational.com
X-WR-CALDESC:Events for Citrus National Golf Club - Homosassa, FL
REFRESH-INTERVAL;VALUE=DURATION:PT1H
X-Robots-Tag:noindex
X-PUBLISHED-TTL:PT1H
BEGIN:VTIMEZONE
TZID:UTC
BEGIN:STANDARD
TZOFFSETFROM:+0000
TZOFFSETTO:+0000
TZNAME:UTC
DTSTART:20240101T000000
END:STANDARD
END:VTIMEZONE
BEGIN:VEVENT
DTSTART;TZID=UTC:20251111T073000
DTEND;TZID=UTC:20251111T203000
DTSTAMP:20260425T124826
CREATED:20250912T110447Z
LAST-MODIFIED:20250912T110449Z
UID:10000031-1762846200-1762893000@citrusnational.com
SUMMARY:StandStill Tournament
DESCRIPTION:StandStill Sports Tournament \n\n\n\nStandStill Sports Invades Citrus National – Saturday\, November 11th \n\n\n\nA day of fun on the links and a great StandStill party after play. The fun begins at 7:30AM. \n\n\n\n$79 per player includes- golf\, cart\, range\, all food & prizes! \n\n\n\nFour Player Teams \n\n\n\n7:30AM Range Opens & Continental Breakfast \n\n\n\n9:00AM 4 player flighted Scramble competition \n\n\n\n12:30PM Cornhole competition and drink after play \n\n\n\nFood\, Drinks & College Football on the Big Screen
URL:https://citrusnational.com/event/standstill-tournament/
CATEGORIES:Tournaments
END:VEVENT
BEGIN:VEVENT
DTSTART;TZID=UTC:20251119T170000
DTEND;TZID=UTC:20251119T200000
DTSTAMP:20260425T124826
CREATED:20251031T041103Z
LAST-MODIFIED:20251031T041106Z
UID:10000034-1763571600-1763582400@citrusnational.com
SUMMARY:Rum Tingling Evening
DESCRIPTION:
URL:https://citrusnational.com/event/rum-tingling-evening/
CATEGORIES:Events
END:VEVENT
END:VCALENDAR