BEGIN:VCALENDAR
VERSION:2.0
PRODID:-//Citrus National Golf Club - Homosassa, FL - ECPv6.15.20//NONSGML v1.0//EN
CALSCALE:GREGORIAN
METHOD:PUBLISH
X-ORIGINAL-URL:https://citrusnational.com
X-WR-CALDESC:Events for Citrus National Golf Club - Homosassa, FL
REFRESH-INTERVAL;VALUE=DURATION:PT1H
X-Robots-Tag:noindex
X-PUBLISHED-TTL:PT1H
BEGIN:VTIMEZONE
TZID:UTC
BEGIN:STANDARD
TZOFFSETFROM:+0000
TZOFFSETTO:+0000
TZNAME:UTC
DTSTART:20250101T000000
END:STANDARD
END:VTIMEZONE
BEGIN:VEVENT
DTSTART;TZID=UTC:20260101T000000
DTEND;TZID=UTC:20260101T235959
DTSTAMP:20260419T160810
CREATED:20250724T130435Z
LAST-MODIFIED:20250724T130438Z
UID:10000029-1767225600-1767311999@citrusnational.com
SUMMARY:Bloody Mary Open
DESCRIPTION:
URL:https://citrusnational.com/event/bloody-mary-open/
END:VEVENT
BEGIN:VEVENT
DTSTART;TZID=UTC:20260108T103000
DTEND;TZID=UTC:20260108T120000
DTSTAMP:20260419T160810
CREATED:20251219T184415Z
LAST-MODIFIED:20251219T184417Z
UID:10000038-1767868200-1767873600@citrusnational.com
SUMMARY:Short Game School
DESCRIPTION:January 8\, 15\, & 22 | 10:30am – 12:00pm3 Days of Tips\, Drills\, and Practice \n\n\n\n$150 per student includes lunch each day \n\n\n\nCentral New York PGA Player of the Year\, Tim Hume is hosting a series of classes devoted to lowering scores. \n\n\n\nRegister today – 352-382-5996 | citrsugolfshop@sugarmillwoodscc.com
URL:https://citrusnational.com/event/short-game-school/2026-01-08/
CATEGORIES:Events
END:VEVENT
BEGIN:VEVENT
DTSTART;TZID=UTC:20260115T103000
DTEND;TZID=UTC:20260115T120000
DTSTAMP:20260419T160810
CREATED:20251219T184415Z
LAST-MODIFIED:20251219T184417Z
UID:10000039-1768473000-1768478400@citrusnational.com
SUMMARY:Short Game School
DESCRIPTION:January 8\, 15\, & 22 | 10:30am – 12:00pm3 Days of Tips\, Drills\, and Practice \n\n\n\n$150 per student includes lunch each day \n\n\n\nCentral New York PGA Player of the Year\, Tim Hume is hosting a series of classes devoted to lowering scores. \n\n\n\nRegister today – 352-382-5996 | citrsugolfshop@sugarmillwoodscc.com
URL:https://citrusnational.com/event/short-game-school/2026-01-15/
CATEGORIES:Events
END:VEVENT
BEGIN:VEVENT
DTSTART;TZID=UTC:20260122T103000
DTEND;TZID=UTC:20260122T120000
DTSTAMP:20260419T160810
CREATED:20251219T184415Z
LAST-MODIFIED:20251219T184417Z
UID:10000040-1769077800-1769083200@citrusnational.com
SUMMARY:Short Game School
DESCRIPTION:January 8\, 15\, & 22 | 10:30am – 12:00pm3 Days of Tips\, Drills\, and Practice \n\n\n\n$150 per student includes lunch each day \n\n\n\nCentral New York PGA Player of the Year\, Tim Hume is hosting a series of classes devoted to lowering scores. \n\n\n\nRegister today – 352-382-5996 | citrsugolfshop@sugarmillwoodscc.com
URL:https://citrusnational.com/event/short-game-school/2026-01-22/
CATEGORIES:Events
END:VEVENT
BEGIN:VEVENT
DTSTART;TZID=UTC:20260124T120000
DTEND;TZID=UTC:20260124T170000
DTSTAMP:20260419T160810
CREATED:20251205T042456Z
LAST-MODIFIED:20251205T042457Z
UID:10000036-1769256000-1769274000@citrusnational.com
SUMMARY:Michigan Open
DESCRIPTION:
URL:https://citrusnational.com/event/michigan-open/
CATEGORIES:Events
END:VEVENT
BEGIN:VEVENT
DTSTART;TZID=UTC:20260124T173000
DTEND;TZID=UTC:20260124T213000
DTSTAMP:20260419T160810
CREATED:20260105T184749Z
LAST-MODIFIED:20260105T184754Z
UID:10000041-1769275800-1769290200@citrusnational.com
SUMMARY:Dinner & Comedy Show
DESCRIPTION:Dinner Party and Amazing Comedian Event \n\n\n\nJanuary 24\, 2026 Join us at 5:30 pm for drinks\, at happy hour prices\, dinner starts at 6:30 pm with after dinner entertainment at 7:30 pm \n\n\n\nPerformance by: Alan Schubowsky \n\n\n\nFeatured in: Evening at the Improv\, Showtime Comedy Club Network\,Comic Strip Live\, America’s Funniest People\, Norm Crosby’s Comedy Shopand Steve Martin Special. \n\n\n\nSelect either Chicken Picatta or Slow Roasted Roast Beef with Mushroom Gravy\, both served with Garlic Mashed Potatoes\, Vegetable Medley\, House Salad and Rolls\, Assorted Dessert Table $49.95++
URL:https://citrusnational.com/event/dinner-comedy-show/
CATEGORIES:Events
END:VEVENT
END:VCALENDAR